BEGIN:VCALENDAR
VERSION:2.0
PRODID:-//Gallabeth ministries - ECPv6.15.13//NONSGML v1.0//EN
CALSCALE:GREGORIAN
METHOD:PUBLISH
X-WR-CALNAME:Gallabeth ministries
X-ORIGINAL-URL:https://gallabethministry.org
X-WR-CALDESC:Events for Gallabeth ministries
REFRESH-INTERVAL;VALUE=DURATION:PT1H
X-Robots-Tag:noindex
X-PUBLISHED-TTL:PT1H
BEGIN:VTIMEZONE
TZID:UTC
BEGIN:STANDARD
TZOFFSETFROM:+0000
TZOFFSETTO:+0000
TZNAME:UTC
DTSTART:20190101T000000
END:STANDARD
END:VTIMEZONE
BEGIN:VEVENT
DTSTART;TZID=UTC:20201130T080000
DTEND;TZID=UTC:20201130T170000
DTSTAMP:20260423T174827
CREATED:20201117T122739Z
LAST-MODIFIED:20201117T122739Z
UID:739-1606723200-1606755600@gallabethministry.org
SUMMARY:Prayer For Peace 1
DESCRIPTION:Details: \n….\n…..\n…..
URL:https://gallabethministry.org/event/prayer-for-peace-1/
END:VEVENT
BEGIN:VEVENT
DTSTART;TZID=UTC:20201114T090000
DTEND;TZID=UTC:20201114T170000
DTSTAMP:20260423T174827
CREATED:20201110T175623Z
LAST-MODIFIED:20201110T175623Z
UID:546-1605344400-1605373200@gallabethministry.org
SUMMARY:Event 1
DESCRIPTION:Description
URL:https://gallabethministry.org/event/event-1/
END:VEVENT
BEGIN:VEVENT
DTSTART;TZID=UTC:20201113T080000
DTEND;TZID=UTC:20201113T170000
DTSTAMP:20260423T174827
CREATED:20201110T175419Z
LAST-MODIFIED:20201110T175419Z
UID:543-1605254400-1605286800@gallabethministry.org
SUMMARY:Prayer 1
DESCRIPTION:Content for Prayer event 1 \nDescription
URL:https://gallabethministry.org/event/prayer-1/
LOCATION:Place Name\, address\, City Name\, Nigeria
END:VEVENT
END:VCALENDAR